BEGIN:VCALENDAR
VERSION:2.0
PRODID:-//The Sales Vault - ECPv6.15.20//NONSGML v1.0//EN
CALSCALE:GREGORIAN
METHOD:PUBLISH
X-WR-CALNAME:The Sales Vault
X-ORIGINAL-URL:https://salesvault.pro
X-WR-CALDESC:Events for The Sales Vault
REFRESH-INTERVAL;VALUE=DURATION:PT1H
X-Robots-Tag:noindex
X-PUBLISHED-TTL:PT1H
BEGIN:VTIMEZONE
TZID:America/New_York
BEGIN:DAYLIGHT
TZOFFSETFROM:-0500
TZOFFSETTO:-0400
TZNAME:EDT
DTSTART:20230312T070000
END:DAYLIGHT
BEGIN:STANDARD
TZOFFSETFROM:-0400
TZOFFSETTO:-0500
TZNAME:EST
DTSTART:20231105T060000
END:STANDARD
BEGIN:DAYLIGHT
TZOFFSETFROM:-0500
TZOFFSETTO:-0400
TZNAME:EDT
DTSTART:20240310T070000
END:DAYLIGHT
BEGIN:STANDARD
TZOFFSETFROM:-0400
TZOFFSETTO:-0500
TZNAME:EST
DTSTART:20241103T060000
END:STANDARD
BEGIN:DAYLIGHT
TZOFFSETFROM:-0500
TZOFFSETTO:-0400
TZNAME:EDT
DTSTART:20250309T070000
END:DAYLIGHT
BEGIN:STANDARD
TZOFFSETFROM:-0400
TZOFFSETTO:-0500
TZNAME:EST
DTSTART:20251102T060000
END:STANDARD
END:VTIMEZONE
BEGIN:VEVENT
DTSTART;TZID=America/New_York:20241016T120000
DTEND;TZID=America/New_York:20241016T130000
DTSTAMP:20260420T015914
CREATED:20240726T100938Z
LAST-MODIFIED:20241012T175101Z
UID:10001498-1729080000-1729083600@salesvault.pro
SUMMARY:"New-to-Sales" Workshop: Building Long-Term Client Relationships
DESCRIPTION:One of the greatest joys of sales is when a client evolves into a friend. In the past\, these bonds were often forged over lunches\, golf outings\, and in-person meetings. Today\, with fewer face-to-face opportunities\, we need to find new ways to strengthen these relationships. \nJoin Bill Farquharson on October 16\, 2024\, for an open discussion in the New to Sales workshop series. This session is designed for new sales reps\, or those new to selling print\, promo\, labels\, or signage. We’ll explore strategies to form lasting vendor-customer connections in a world where in-person meetings are the exception rather than the rule. \nBring your experiences\, challenges\, and ideas\, and let’s discover how to build long-term relationships with your clients. \nGetting started in sales can be a lonely voyage. This Sales Vault exclusive has given new sales reps and selling owners a community to share success strategies and support. Bring a sales challenge for discussion or just be a fly-on-the-wall and listen\, but this workshop might just become your favorite Sales Vault session!
URL:https://salesvault.pro/event/new-to-sales-workshop-october-16/
CATEGORIES:Featured Workshop,Live Workshop,New to Sales
ATTACH;FMTTYPE=image/jpeg:https://salesvault.pro/wp-content/uploads/2024/07/New-to-Sales-Workshop.jpg
ORGANIZER;CN="Bill Farquharson":MAILTO:bill@salesvault.pro
LOCATION:https://salesvault.pro/event/new-to-sales-workshop-october-16/
END:VEVENT
END:VCALENDAR