BEGIN:VCALENDAR
VERSION:2.0
PRODID:-//The Sales Vault - ECPv6.15.20//NONSGML v1.0//EN
CALSCALE:GREGORIAN
METHOD:PUBLISH
X-WR-CALNAME:The Sales Vault
X-ORIGINAL-URL:https://salesvault.pro
X-WR-CALDESC:Events for The Sales Vault
REFRESH-INTERVAL;VALUE=DURATION:PT1H
X-Robots-Tag:noindex
X-PUBLISHED-TTL:PT1H
BEGIN:VTIMEZONE
TZID:America/New_York
BEGIN:DAYLIGHT
TZOFFSETFROM:-0500
TZOFFSETTO:-0400
TZNAME:EDT
DTSTART:20240310T070000
END:DAYLIGHT
BEGIN:STANDARD
TZOFFSETFROM:-0400
TZOFFSETTO:-0500
TZNAME:EST
DTSTART:20241103T060000
END:STANDARD
BEGIN:DAYLIGHT
TZOFFSETFROM:-0500
TZOFFSETTO:-0400
TZNAME:EDT
DTSTART:20250309T070000
END:DAYLIGHT
BEGIN:STANDARD
TZOFFSETFROM:-0400
TZOFFSETTO:-0500
TZNAME:EST
DTSTART:20251102T060000
END:STANDARD
BEGIN:DAYLIGHT
TZOFFSETFROM:-0500
TZOFFSETTO:-0400
TZNAME:EDT
DTSTART:20260308T070000
END:DAYLIGHT
BEGIN:STANDARD
TZOFFSETFROM:-0400
TZOFFSETTO:-0500
TZNAME:EST
DTSTART:20261101T060000
END:STANDARD
END:VTIMEZONE
BEGIN:VEVENT
DTSTART;TZID=America/New_York:20250602T110000
DTEND;TZID=America/New_York:20250602T120000
DTSTAMP:20260419T203406
CREATED:20250523T195033Z
LAST-MODIFIED:20250523T204212Z
UID:10001595-1748862000-1748865600@salesvault.pro
SUMMARY:Bill Says Marketing is the New Sales. So\, Why Aren’t You Doing It?
DESCRIPTION:Explore the common barriers that keep salespeople and owners from running consistent marketing campaigns — time\, content\, fear\, or lack of direction. Discuss simple strategies to overcome inertia and build marketing momentum\, even with limited resources.
URL:https://salesvault.pro/event/bill-says-marketing-is-the-new-sales-so-why-arent-you-doing-it/
CATEGORIES:Live Workshop,Weekly Workshop
ATTACH;FMTTYPE=image/jpeg:https://salesvault.pro/wp-content/uploads/2025/05/Weekly-Workshop-Bill-Says-Marketing-is-the-New-Sales.-So-Why-Arent-You-Doing-It-June-2-2025.jpg
ORGANIZER;CN="Bill Farquharson":MAILTO:bill@salesvault.pro
LOCATION:https://salesvault.pro/event/bill-says-marketing-is-the-new-sales-so-why-arent-you-doing-it/
END:VEVENT
BEGIN:VEVENT
DTSTART;TZID=America/New_York:20250604T130000
DTEND;TZID=America/New_York:20250604T140000
DTSTAMP:20260419T203406
CREATED:20250528T163231Z
LAST-MODIFIED:20250602T203127Z
UID:10001600-1749042000-1749045600@salesvault.pro
SUMMARY:NEW DATE/TIME: AI for Signage Sales: Tips\, Tricks\, and Tools That Close Deals
DESCRIPTION:This event was rescheduled from May 28th due to unforeseen circumstances. Join us June 4th at 1:00pm EST as we wrap up our unit on Selling Signage with AI Tips & Tricks!\nTake your signage sales game to the next level! Join Emma Farquharson\, PhD\, of SharedIntel AI for a powerful follow-up to Bill Farquharson’s workshop. In this dynamic session\, Emma will reveal cutting-edge AI tips\, tools\, and hacks that help signage sales reps work smarter\, faster\, and more creatively. Learn how to apply artificial intelligence to prospect research\, proposal writing\, visual mockups\, and customer engagement—unlocking time savings and winning more deals. Whether you’re selling banners\, building signs\, vehicle wraps\, or beyond\, you’ll leave with a toolkit of practical AI strategies you can use immediately to boost your confidence\, productivity\, and sales results. \nThis workshop is presented by Bill Farquharson of The Sales Vault and special guest Emma Farquharson of SharedIntel AI.\n \nSales Vault members: Attend for FREE \nNon-members: $99\n(includes a copy of the recording) \nYes\, you can join The Sales Vault for $69 and participate in this and all monthly AI workshops for FREE. Cancel at any time. \nClick Here to explore membership options and check for partner discounts.
URL:https://salesvault.pro/event/ai-for-signage-sales-tips-tricks-and-tools-that-close-deals-june-4/
CATEGORIES:AI,Featured Workshop,Live Workshop,May 2025 Series,Selling Signs
ATTACH;FMTTYPE=image/jpeg:https://salesvault.pro/wp-content/uploads/2025/05/AI-for-Signage-Sales-Featured-Image.jpg
ORGANIZER;CN="Bill Farquharson":MAILTO:bill@salesvault.pro
LOCATION:https://salesvault.pro/event/ai-for-signage-sales-tips-tricks-and-tools-that-close-deals-june-4/
END:VEVENT
BEGIN:VEVENT
DTSTART;TZID=America/New_York:20250610T110000
DTEND;TZID=America/New_York:20250610T120000
DTSTAMP:20260419T203406
CREATED:20250523T195626Z
LAST-MODIFIED:20250523T204310Z
UID:10001596-1749553200-1749556800@salesvault.pro
SUMMARY:From Cold to Warm: How to Open More Doors (Tues 11am ET)
DESCRIPTION:Please note our weekly workshop lands on a Tuesday this week!\nDiscuss modern prospecting strategies for turning cold calls into warm introductions using LinkedIn\, email sequences\, referrals\, and value-driven outreach. Participants will share what’s working (and what isn’t) when trying to reach new accounts.
URL:https://salesvault.pro/event/from-cold-to-warm-how-to-open-more-doors/
CATEGORIES:Live Workshop,Weekly Workshop
ATTACH;FMTTYPE=image/jpeg:https://salesvault.pro/wp-content/uploads/2025/05/Weekly-Workshop-From-Cold-to-Warm_-How-to-Open-More-Doors-June-9-2025.jpg
ORGANIZER;CN="Bill Farquharson":MAILTO:bill@salesvault.pro
LOCATION:https://salesvault.pro/event/from-cold-to-warm-how-to-open-more-doors/
END:VEVENT
BEGIN:VEVENT
DTSTART;TZID=America/New_York:20250611T130000
DTEND;TZID=America/New_York:20250611T140000
DTSTAMP:20260419T203406
CREATED:20250601T205222Z
LAST-MODIFIED:20250601T220313Z
UID:10001602-1749646800-1749650400@salesvault.pro
SUMMARY:Why Aren't You Selling More?
DESCRIPTION:The answer to “Why aren’t you selling more?” can shift daily—or even hourly. Maybe it’s a prospecting lull\, a time management hiccup\, a tough objection\, or something you haven’t even identified yet. The good news? Whatever your challenge is\, someone else has overcome it—and we’re bringing those solutions to the table. \nIn this fast-paced and practical session\, Bill Farquharson will explore the most common (and avoidable) sales roadblocks\, sharing simple adjustments that lead to better results. Join us for real talk\, real solutions\, and a renewed push toward your goals.
URL:https://salesvault.pro/event/why-arent-you-selling-more-june-2025-workshop/
CATEGORIES:June 2025 Series,Live Workshop
ATTACH;FMTTYPE=image/jpeg:https://salesvault.pro/wp-content/uploads/2025/06/why-arent-you-selling-more-is-the-question.jpg
ORGANIZER;CN="Bill Farquharson":MAILTO:bill@salesvault.pro
LOCATION:https://salesvault.pro/event/why-arent-you-selling-more-june-2025-workshop/
END:VEVENT
BEGIN:VEVENT
DTSTART;TZID=America/New_York:20250616T110000
DTEND;TZID=America/New_York:20250616T120000
DTSTAMP:20260419T203406
CREATED:20250523T200005Z
LAST-MODIFIED:20250523T204032Z
UID:10001597-1750071600-1750075200@salesvault.pro
SUMMARY:Sales and Marketing for Customer Retention (Not Just Acquisition)
DESCRIPTION:Instead of always chasing new business\, how are you staying top-of-mind with existing clients? Dive into ways to use print\, promotional products\, and signage as tools for loyalty\, upselling\, and surprise/delight touches.
URL:https://salesvault.pro/event/sales-and-marketing-for-customer-retention-not-just-acquisition/
CATEGORIES:Live Workshop,Weekly Workshop
ATTACH;FMTTYPE=image/jpeg:https://salesvault.pro/wp-content/uploads/2025/05/Weekly-Workshop-Sales-and-Marketing-for-Customer-Retention-Not-Just-Acquisition-June-16-2025.jpg
ORGANIZER;CN="Bill Farquharson":MAILTO:bill@salesvault.pro
LOCATION:https://salesvault.pro/event/sales-and-marketing-for-customer-retention-not-just-acquisition/
END:VEVENT
BEGIN:VEVENT
DTSTART;TZID=America/New_York:20250617T120000
DTEND;TZID=America/New_York:20250617T130000
DTSTAMP:20260419T203406
CREATED:20250601T213413Z
LAST-MODIFIED:20250602T221538Z
UID:10001601-1750161600-1750165200@salesvault.pro
SUMMARY:Why Aren’t You Selling More? Sales Growth Strategies & AI Insights
DESCRIPTION:This month you’ve asked the question: Why aren’t you selling more? \nNow it’s time to let AI help answer it. \nThis session is the Whitman’s Sampler of Sales Vault events—an AI-powered deep dive into the most common (and most frustrating) challenges salespeople face. From time management and lead generation to business development\, objection handling\, and signage sales strategies\, we’ll show you how AI can be used to simplify\, accelerate\, and improve your approach in every area of the sales process. \nWhether you attended the June 11th workshop: “Why Aren’t You Selling More?” workshop or not\, the replay of the June 10 session will be made available here after the event\, this session will deliver a buffet of smart tools and time-saving strategies that give you the edge. Walk away with a collection of ready-to-use AI solutions—and a renewed focus on what works. \nThis workshop is presented by Bill Farquharson of The Sales Vault and special guest Emma Farquharson of SharedIntel AI.  \nSales Vault members: Attend for FREE \nNon-members: $99 (includes a copy of the recording) \nYes\, you can join The Sales Vault for $69 and participate in this and all monthly AI workshops for FREE. Cancel at any time. \nClick Here to explore membership options and check for partner discounts.
URL:https://salesvault.pro/event/why-arent-you-selling-more-sales-growth-strategies-ai-insights/
CATEGORIES:AI,Featured Workshop,June 2025 Series,Live Workshop
ATTACH;FMTTYPE=image/jpeg:https://salesvault.pro/wp-content/uploads/2025/06/AI-for-Sales-Growth-June-2025.jpg
ORGANIZER;CN="Bill Farquharson":MAILTO:bill@salesvault.pro
LOCATION:https://salesvault.pro/event/why-arent-you-selling-more-sales-growth-strategies-ai-insights/
END:VEVENT
BEGIN:VEVENT
DTSTART;TZID=America/New_York:20250623T110000
DTEND;TZID=America/New_York:20250623T120000
DTSTAMP:20260419T203406
CREATED:20250523T200332Z
LAST-MODIFIED:20250523T204004Z
UID:10001598-1750676400-1750680000@salesvault.pro
SUMMARY:Selling the Value\, Not the Product
DESCRIPTION:Many buyers see print and promo as a commodity. This discussion centers on how to shift the conversation from cost and specs to solutions and outcomes. How do you sell creativity\, results\, and expertise — not just stuff?
URL:https://salesvault.pro/event/selling-the-value-not-the-product/
CATEGORIES:Live Workshop,Weekly Workshop
ATTACH;FMTTYPE=image/jpeg:https://salesvault.pro/wp-content/uploads/2025/05/Weekly-Workshop-Selling-the-Value-Not-the-Product-June-23-2025.jpg
ORGANIZER;CN="Bill Farquharson":MAILTO:bill@salesvault.pro
LOCATION:https://salesvault.pro/event/selling-the-value-not-the-product/
END:VEVENT
BEGIN:VEVENT
DTSTART;TZID=America/New_York:20250630T110000
DTEND;TZID=America/New_York:20250630T120000
DTSTAMP:20260419T203406
CREATED:20250523T200645Z
LAST-MODIFIED:20250523T203937Z
UID:10001599-1751281200-1751284800@salesvault.pro
SUMMARY:Your Website\, Email Signature\, and LinkedIn Profile Walk into a Bar...
DESCRIPTION:Your digital presence is often your first impression. This fun but serious session focuses on what your digital footprint says about you. Participants can audit each other’s marketing presence and brainstorm ways to improve alignment and credibility.
URL:https://salesvault.pro/event/your-website-email-signature-and-linkedin-profile-walk-into-a-bar/
CATEGORIES:Live Workshop,Weekly Workshop
ATTACH;FMTTYPE=image/jpeg:https://salesvault.pro/wp-content/uploads/2025/05/Weekly-Workshop-Your-Website-Email-Signature-and-LinkedIn-Profile-Walk-into-a-Bar-June-30-2025.jpg
ORGANIZER;CN="Bill Farquharson":MAILTO:bill@salesvault.pro
LOCATION:https://salesvault.pro/event/your-website-email-signature-and-linkedin-profile-walk-into-a-bar/
END:VEVENT
END:VCALENDAR