BEGIN:VCALENDAR
VERSION:2.0
PRODID:-//The Sales Vault - ECPv6.15.20//NONSGML v1.0//EN
CALSCALE:GREGORIAN
METHOD:PUBLISH
X-WR-CALNAME:The Sales Vault
X-ORIGINAL-URL:https://salesvault.pro
X-WR-CALDESC:Events for The Sales Vault
REFRESH-INTERVAL;VALUE=DURATION:PT1H
X-Robots-Tag:noindex
X-PUBLISHED-TTL:PT1H
BEGIN:VTIMEZONE
TZID:America/New_York
BEGIN:DAYLIGHT
TZOFFSETFROM:-0500
TZOFFSETTO:-0400
TZNAME:EDT
DTSTART:20250309T070000
END:DAYLIGHT
BEGIN:STANDARD
TZOFFSETFROM:-0400
TZOFFSETTO:-0500
TZNAME:EST
DTSTART:20251102T060000
END:STANDARD
BEGIN:DAYLIGHT
TZOFFSETFROM:-0500
TZOFFSETTO:-0400
TZNAME:EDT
DTSTART:20260308T070000
END:DAYLIGHT
BEGIN:STANDARD
TZOFFSETFROM:-0400
TZOFFSETTO:-0500
TZNAME:EST
DTSTART:20261101T060000
END:STANDARD
BEGIN:DAYLIGHT
TZOFFSETFROM:-0500
TZOFFSETTO:-0400
TZNAME:EDT
DTSTART:20270314T070000
END:DAYLIGHT
BEGIN:STANDARD
TZOFFSETFROM:-0400
TZOFFSETTO:-0500
TZNAME:EST
DTSTART:20271107T060000
END:STANDARD
END:VTIMEZONE
BEGIN:VEVENT
DTSTART;TZID=America/New_York:20260511T110000
DTEND;TZID=America/New_York:20260511T120000
DTSTAMP:20260422T160157
CREATED:20260417T203924Z
LAST-MODIFIED:20260417T204236Z
UID:84511-1778497200-1778500800@salesvault.pro
SUMMARY:Too Busy to Sell? Managing Growth Without Losing Momentum
DESCRIPTION:Success can create its own problems. As orders increase\, so do responsibilities — and suddenly\, you don’t have time to sell anymore. This workshop focuses on how to protect your selling time\, manage competing priorities\, and keep your pipeline full even when you’re busy servicing existing clients.
URL:https://salesvault.pro/event/too-busy-to-sell-managing-growth-without-losing-momentum/
CATEGORIES:Live Workshop,Weekly Workshop
ATTACH;FMTTYPE=image/jpeg:https://salesvault.pro/wp-content/uploads/2026/04/too-busy-to-sell.jpg
ORGANIZER;CN="Bill Farquharson":MAILTO:bill@salesvault.pro
LOCATION:https://salesvault.pro/event/too-busy-to-sell-managing-growth-without-losing-momentum/
END:VEVENT
END:VCALENDAR