BEGIN:VCALENDAR
VERSION:2.0
PRODID:-//The Sales Vault - ECPv6.15.20//NONSGML v1.0//EN
CALSCALE:GREGORIAN
METHOD:PUBLISH
X-WR-CALNAME:The Sales Vault
X-ORIGINAL-URL:https://salesvault.pro
X-WR-CALDESC:Events for The Sales Vault
REFRESH-INTERVAL;VALUE=DURATION:PT1H
X-Robots-Tag:noindex
X-PUBLISHED-TTL:PT1H
BEGIN:VTIMEZONE
TZID:America/New_York
BEGIN:DAYLIGHT
TZOFFSETFROM:-0500
TZOFFSETTO:-0400
TZNAME:EDT
DTSTART:20240310T070000
END:DAYLIGHT
BEGIN:STANDARD
TZOFFSETFROM:-0400
TZOFFSETTO:-0500
TZNAME:EST
DTSTART:20241103T060000
END:STANDARD
BEGIN:DAYLIGHT
TZOFFSETFROM:-0500
TZOFFSETTO:-0400
TZNAME:EDT
DTSTART:20250309T070000
END:DAYLIGHT
BEGIN:STANDARD
TZOFFSETFROM:-0400
TZOFFSETTO:-0500
TZNAME:EST
DTSTART:20251102T060000
END:STANDARD
BEGIN:DAYLIGHT
TZOFFSETFROM:-0500
TZOFFSETTO:-0400
TZNAME:EDT
DTSTART:20260308T070000
END:DAYLIGHT
BEGIN:STANDARD
TZOFFSETFROM:-0400
TZOFFSETTO:-0500
TZNAME:EST
DTSTART:20261101T060000
END:STANDARD
END:VTIMEZONE
BEGIN:VEVENT
DTSTART;TZID=America/New_York:20250603T120000
DTEND;TZID=America/New_York:20250603T130000
DTSTAMP:20260419T204751
CREATED:20250509T160417Z
LAST-MODIFIED:20250509T161035Z
UID:80028-1748952000-1748955600@salesvault.pro
SUMMARY:Fully Promoted Exclusive Workshop: That Nuisance Customer
DESCRIPTION:Join fellow Fully Promoted Sales Vault members at this interactive workshop! \nSlow payers. Know-it-all’s. Nit pickers. Perennial price shoppers…The nuisance customer earns his/her label every day. Some feel they’ve become the norm and not the exception. Let’s talk about how to identify\, head off\, and deal with these clients and turn them from lions to lambs. \n 
URL:https://salesvault.pro/event/that-nuisance-customer-fully-promoted-june-3/
CATEGORIES:Fully Promoted Exclusive
ATTACH;FMTTYPE=image/jpeg:https://salesvault.pro/wp-content/uploads/2025/05/fully-promoted-workshop-June-3.jpg
ORGANIZER;CN="Bill Farquharson":MAILTO:bill@salesvault.pro
LOCATION:https://salesvault.pro/event/that-nuisance-customer-fully-promoted-june-3/
END:VEVENT
END:VCALENDAR