BEGIN:VCALENDAR
VERSION:2.0
PRODID:-//The Sales Vault - ECPv6.15.20//NONSGML v1.0//EN
CALSCALE:GREGORIAN
METHOD:PUBLISH
X-ORIGINAL-URL:https://salesvault.pro
X-WR-CALDESC:Events for The Sales Vault
REFRESH-INTERVAL;VALUE=DURATION:PT1H
X-Robots-Tag:noindex
X-PUBLISHED-TTL:PT1H
BEGIN:VTIMEZONE
TZID:America/New_York
BEGIN:DAYLIGHT
TZOFFSETFROM:-0500
TZOFFSETTO:-0400
TZNAME:EDT
DTSTART:20250309T070000
END:DAYLIGHT
BEGIN:STANDARD
TZOFFSETFROM:-0400
TZOFFSETTO:-0500
TZNAME:EST
DTSTART:20251102T060000
END:STANDARD
BEGIN:DAYLIGHT
TZOFFSETFROM:-0500
TZOFFSETTO:-0400
TZNAME:EDT
DTSTART:20260308T070000
END:DAYLIGHT
BEGIN:STANDARD
TZOFFSETFROM:-0400
TZOFFSETTO:-0500
TZNAME:EST
DTSTART:20261101T060000
END:STANDARD
BEGIN:DAYLIGHT
TZOFFSETFROM:-0500
TZOFFSETTO:-0400
TZNAME:EDT
DTSTART:20270314T070000
END:DAYLIGHT
BEGIN:STANDARD
TZOFFSETFROM:-0400
TZOFFSETTO:-0500
TZNAME:EST
DTSTART:20271107T060000
END:STANDARD
END:VTIMEZONE
BEGIN:VEVENT
DTSTART;TZID=America/New_York:20260209T110000
DTEND;TZID=America/New_York:20260209T120000
DTSTAMP:20260419T103120
CREATED:20251215T160555Z
LAST-MODIFIED:20260113T221216Z
UID:10001663-1770634800-1770638400@salesvault.pro
SUMMARY:The Weekly Sales Plan: Think Ahead\, Win Ahead
DESCRIPTION:Your calendar doesn’t lie: are you proactively selling—or reacting all week and hoping something closes? This workshop gives you a practical weekly planning system built for real-life sales schedules (calls\, quotes\, follow-ups\, “urgent” fires… all of it). \nYou’ll learn how to time-block the right activities\, protect selling time\, and create a weekly plan you can actually stick to—so you get more done without burning out. The best reps don’t just work hard; they work with intention. This is how.
URL:https://salesvault.pro/event/the-weekly-sales-plan-think-ahead-win-ahead/
CATEGORIES:Live Workshop,Weekly Workshop
ATTACH;FMTTYPE=image/jpeg:https://salesvault.pro/wp-content/uploads/2025/12/Weekly-sales-planning.jpg
ORGANIZER;CN="Bill Farquharson":MAILTO:bill@salesvault.pro
LOCATION:https://salesvault.pro/event/the-weekly-sales-plan-think-ahead-win-ahead/
END:VEVENT
END:VCALENDAR