BEGIN:VCALENDAR
VERSION:2.0
PRODID:-//The Sales Vault - ECPv6.15.20//NONSGML v1.0//EN
CALSCALE:GREGORIAN
METHOD:PUBLISH
X-WR-CALNAME:The Sales Vault
X-ORIGINAL-URL:https://salesvault.pro
X-WR-CALDESC:Events for The Sales Vault
REFRESH-INTERVAL;VALUE=DURATION:PT1H
X-Robots-Tag:noindex
X-PUBLISHED-TTL:PT1H
BEGIN:VTIMEZONE
TZID:America/New_York
BEGIN:DAYLIGHT
TZOFFSETFROM:-0500
TZOFFSETTO:-0400
TZNAME:EDT
DTSTART:20240310T070000
END:DAYLIGHT
BEGIN:STANDARD
TZOFFSETFROM:-0400
TZOFFSETTO:-0500
TZNAME:EST
DTSTART:20241103T060000
END:STANDARD
BEGIN:DAYLIGHT
TZOFFSETFROM:-0500
TZOFFSETTO:-0400
TZNAME:EDT
DTSTART:20250309T070000
END:DAYLIGHT
BEGIN:STANDARD
TZOFFSETFROM:-0400
TZOFFSETTO:-0500
TZNAME:EST
DTSTART:20251102T060000
END:STANDARD
BEGIN:DAYLIGHT
TZOFFSETFROM:-0500
TZOFFSETTO:-0400
TZNAME:EDT
DTSTART:20260308T070000
END:DAYLIGHT
BEGIN:STANDARD
TZOFFSETFROM:-0400
TZOFFSETTO:-0500
TZNAME:EST
DTSTART:20261101T060000
END:STANDARD
END:VTIMEZONE
BEGIN:VEVENT
DTSTART;TZID=America/New_York:20251103T110000
DTEND;TZID=America/New_York:20251103T120000
DTSTAMP:20260420T222828
CREATED:20250916T012646Z
LAST-MODIFIED:20250930T115434Z
UID:10001640-1762167600-1762171200@salesvault.pro
SUMMARY:Why They’re Not Calling You Back
DESCRIPTION:You had a great first meeting. You sent the quote. And then… silence. In this workshop\, learn why prospects go dark\, how to re-engage them\, and what to do differently next time to keep the conversation alive.
URL:https://salesvault.pro/event/why-theyre-not-calling-you-back/
CATEGORIES:Live Workshop,Weekly Workshop
ATTACH;FMTTYPE=image/jpeg:https://salesvault.pro/wp-content/uploads/2025/09/staring-at-the-phone.jpg
ORGANIZER;CN="Bill Farquharson":MAILTO:bill@salesvault.pro
LOCATION:https://salesvault.pro/event/why-theyre-not-calling-you-back/
END:VEVENT
BEGIN:VEVENT
DTSTART;TZID=America/New_York:20251105T120000
DTEND;TZID=America/New_York:20251105T130000
DTSTAMP:20260420T222828
CREATED:20251014T232112Z
LAST-MODIFIED:20251014T232539Z
UID:10001646-1762344000-1762347600@salesvault.pro
SUMMARY:SpeedPro Exclusive: Marketing Without a Marketing Department
DESCRIPTION:Join fellow SpeedPro Sales Vault members at this interactive workshop!  \nYou don’t need a full-time marketing team to attract new business — you just need a smart plan and a little consistency. \nIn this practical workshop\, we’ll explore how SpeedPro owners can market their studios effectively with limited time\, budget\, and support. You’ll learn simple\, repeatable tactics to help you stay visible\, strengthen client relationships\, and keep your pipeline full — without the need for fancy software or outside agencies. \nWhether you want to generate more leads\, grow referrals\, or finally put that email list to work\, this session will show you how to make marketing manageable — and even enjoyable.
URL:https://salesvault.pro/event/speedpro-exclusive-marketing-without-a-marketing-department/
CATEGORIES:SpeedPro Owner Exclusive
ATTACH;FMTTYPE=image/jpeg:https://salesvault.pro/wp-content/uploads/2025/10/SpeedPro-Workshop-Nov-5.jpg
ORGANIZER;CN="Bill Farquharson":MAILTO:bill@salesvault.pro
LOCATION:https://salesvault.pro/event/speedpro-exclusive-marketing-without-a-marketing-department/
END:VEVENT
END:VCALENDAR