BEGIN:VCALENDAR
VERSION:2.0
PRODID:-//The Sales Vault - ECPv6.15.20//NONSGML v1.0//EN
CALSCALE:GREGORIAN
METHOD:PUBLISH
X-ORIGINAL-URL:https://salesvault.pro
X-WR-CALDESC:Events for The Sales Vault
REFRESH-INTERVAL;VALUE=DURATION:PT1H
X-Robots-Tag:noindex
X-PUBLISHED-TTL:PT1H
BEGIN:VTIMEZONE
TZID:America/New_York
BEGIN:DAYLIGHT
TZOFFSETFROM:-0500
TZOFFSETTO:-0400
TZNAME:EDT
DTSTART:20240310T070000
END:DAYLIGHT
BEGIN:STANDARD
TZOFFSETFROM:-0400
TZOFFSETTO:-0500
TZNAME:EST
DTSTART:20241103T060000
END:STANDARD
BEGIN:DAYLIGHT
TZOFFSETFROM:-0500
TZOFFSETTO:-0400
TZNAME:EDT
DTSTART:20250309T070000
END:DAYLIGHT
BEGIN:STANDARD
TZOFFSETFROM:-0400
TZOFFSETTO:-0500
TZNAME:EST
DTSTART:20251102T060000
END:STANDARD
BEGIN:DAYLIGHT
TZOFFSETFROM:-0500
TZOFFSETTO:-0400
TZNAME:EDT
DTSTART:20260308T070000
END:DAYLIGHT
BEGIN:STANDARD
TZOFFSETFROM:-0400
TZOFFSETTO:-0500
TZNAME:EST
DTSTART:20261101T060000
END:STANDARD
END:VTIMEZONE
BEGIN:VEVENT
DTSTART;TZID=America/New_York:20250804T110000
DTEND;TZID=America/New_York:20250804T120000
DTSTAMP:20260425T072126
CREATED:20250719T152125Z
LAST-MODIFIED:20250805T215521Z
UID:10001615-1754305200-1754308800@salesvault.pro
SUMMARY:What Makes You Different?
DESCRIPTION:In a sea of competitors offering similar products\, how do you stand out? This session challenges you to define and communicate your Unique Selling Proposition (USP). We’ll explore messaging\, branding\, and customer experience that help you differentiate — even when your products are similar to everyone else’s.
URL:https://salesvault.pro/event/what-makes-you-different/
CATEGORIES:Live Workshop,Weekly Workshop
ATTACH;FMTTYPE=image/jpeg:https://salesvault.pro/wp-content/uploads/2025/07/Workshop-What-Makes-You-Different-August-2025.jpg
ORGANIZER;CN="Bill Farquharson":MAILTO:bill@salesvault.pro
LOCATION:https://salesvault.pro/event/what-makes-you-different/
END:VEVENT
BEGIN:VEVENT
DTSTART;TZID=America/New_York:20250804T130000
DTEND;TZID=America/New_York:20250804T140000
DTSTAMP:20260425T072126
CREATED:20250724T122445Z
LAST-MODIFIED:20250805T215531Z
UID:10001604-1754312400-1754316000@salesvault.pro
SUMMARY:Fully Promoted Exclusive: Your Website\, Email Signature\, and LinkedIn Profile Walk into a Bar...
DESCRIPTION:Join fellow Fully Promoted Sales Vault members at this interactive workshop!  \nYour digital presence is often your first impression. This fun but serious session focuses on what your digital footprint says about you. Participants can audit each other’s marketing presence and brainstorm ways to improve alignment and credibility.
URL:https://salesvault.pro/event/fully-promoted-exclusive-your-website-email-signature-and-linkedin-profile-walk-into-a-bar/
CATEGORIES:Fully Promoted Exclusive,Weekly Workshop
ATTACH;FMTTYPE=image/jpeg:https://salesvault.pro/wp-content/uploads/2025/07/Fully-Promoted-Aug-2025-Your-Website-Email-Signature-and-LinkedIn-Profile-Walk-into-a-Bar.jpg
ORGANIZER;CN="Bill Farquharson":MAILTO:bill@salesvault.pro
LOCATION:https://salesvault.pro/event/fully-promoted-exclusive-your-website-email-signature-and-linkedin-profile-walk-into-a-bar/
END:VEVENT
END:VCALENDAR