BEGIN:VCALENDAR
VERSION:2.0
PRODID:-//The Sales Vault - ECPv6.15.20//NONSGML v1.0//EN
CALSCALE:GREGORIAN
METHOD:PUBLISH
X-ORIGINAL-URL:https://salesvault.pro
X-WR-CALDESC:Events for The Sales Vault
REFRESH-INTERVAL;VALUE=DURATION:PT1H
X-Robots-Tag:noindex
X-PUBLISHED-TTL:PT1H
BEGIN:VTIMEZONE
TZID:America/New_York
BEGIN:DAYLIGHT
TZOFFSETFROM:-0500
TZOFFSETTO:-0400
TZNAME:EDT
DTSTART:20240310T070000
END:DAYLIGHT
BEGIN:STANDARD
TZOFFSETFROM:-0400
TZOFFSETTO:-0500
TZNAME:EST
DTSTART:20241103T060000
END:STANDARD
BEGIN:DAYLIGHT
TZOFFSETFROM:-0500
TZOFFSETTO:-0400
TZNAME:EDT
DTSTART:20250309T070000
END:DAYLIGHT
BEGIN:STANDARD
TZOFFSETFROM:-0400
TZOFFSETTO:-0500
TZNAME:EST
DTSTART:20251102T060000
END:STANDARD
BEGIN:DAYLIGHT
TZOFFSETFROM:-0500
TZOFFSETTO:-0400
TZNAME:EDT
DTSTART:20260308T070000
END:DAYLIGHT
BEGIN:STANDARD
TZOFFSETFROM:-0400
TZOFFSETTO:-0500
TZNAME:EST
DTSTART:20261101T060000
END:STANDARD
END:VTIMEZONE
BEGIN:VEVENT
DTSTART;TZID=America/New_York:20250519T110000
DTEND;TZID=America/New_York:20250519T120000
DTSTAMP:20260420T000540
CREATED:20250429T181820Z
LAST-MODIFIED:20250429T193946Z
UID:10001588-1747652400-1747656000@salesvault.pro
SUMMARY:Humans vs. AI: How to Keep Your Marketing Personal in an Automated World
DESCRIPTION:As AI-generated content becomes more common\, standing out requires a human touch. This week\, we’ll talk about how to balance automation with authenticity. What should be personalized? What can be outsourced to AI? How do you keep your messages feeling real? You’ll leave with practical ideas—and maybe even a few AI tricks—to help you sound more like you.
URL:https://salesvault.pro/event/humans-vs-ai-how-to-keep-your-marketing-personal-in-an-automated-world/
CATEGORIES:Live Workshop,Weekly Workshop
ATTACH;FMTTYPE=image/jpeg:https://salesvault.pro/wp-content/uploads/2025/04/Humans-vs.-AI-How-to-Keep-Your-Marketing-Personal-in-an-Automated-World-May-19-2025.jpg
ORGANIZER;CN="Bill Farquharson":MAILTO:bill@salesvault.pro
LOCATION:https://salesvault.pro/event/humans-vs-ai-how-to-keep-your-marketing-personal-in-an-automated-world/
END:VEVENT
BEGIN:VEVENT
DTSTART;TZID=America/New_York:20250520T120000
DTEND;TZID=America/New_York:20250520T130000
DTSTAMP:20260420T000540
CREATED:20250429T193555Z
LAST-MODIFIED:20250429T193555Z
UID:10001590-1747742400-1747746000@salesvault.pro
SUMMARY:Sign Language for Sales Reps: Talk the Talk\, Sell the Sign
DESCRIPTION:Ready to grow your signage sales and close bigger\, faster\, more profitable deals? Join us for an exclusive one-hour Sales Vault workshop\, “Sign Language for Sales Reps: Talk the Talk\, Sell the Sign.”  \nIn this tactical session\, you’ll learn how to position signage as a marketing essential\, uncover hidden opportunities in every customer conversation\, and win more projects by speaking the language buyers trust. Whether you’re selling banners\, building signs\, vehicle wraps\, or way-finding systems\, this workshop will give you the tools\, strategies\, and confidence to make every sales call count.  \nBring your questions\, bring your challenges — leave with ideas you can use immediately to sell more signage\, more often. Don’t miss it!
URL:https://salesvault.pro/event/sign-language-for-sales-reps-talk-the-talk-sell-the-sign/
CATEGORIES:Live Workshop,May 2025 Series,Selling Signs
ATTACH;FMTTYPE=image/jpeg:https://salesvault.pro/wp-content/uploads/2025/04/Sign-Language-for-Sales-Reps-Talk-the-Talk-Sell-the-Signs-May-20.jpg
ORGANIZER;CN="Bill Farquharson":MAILTO:bill@salesvault.pro
LOCATION:https://us06web.zoom.us/j/89676969845?pwd=dElRd1jiL78a4VNXbHQV03qc0xO4fK.1
END:VEVENT
END:VCALENDAR