BEGIN:VCALENDAR
VERSION:2.0
PRODID:-//The Sales Vault - ECPv6.15.20//NONSGML v1.0//EN
CALSCALE:GREGORIAN
METHOD:PUBLISH
X-WR-CALNAME:The Sales Vault
X-ORIGINAL-URL:https://salesvault.pro
X-WR-CALDESC:Events for The Sales Vault
REFRESH-INTERVAL;VALUE=DURATION:PT1H
X-Robots-Tag:noindex
X-PUBLISHED-TTL:PT1H
BEGIN:VTIMEZONE
TZID:America/New_York
BEGIN:DAYLIGHT
TZOFFSETFROM:-0500
TZOFFSETTO:-0400
TZNAME:EDT
DTSTART:20240310T070000
END:DAYLIGHT
BEGIN:STANDARD
TZOFFSETFROM:-0400
TZOFFSETTO:-0500
TZNAME:EST
DTSTART:20241103T060000
END:STANDARD
BEGIN:DAYLIGHT
TZOFFSETFROM:-0500
TZOFFSETTO:-0400
TZNAME:EDT
DTSTART:20250309T070000
END:DAYLIGHT
BEGIN:STANDARD
TZOFFSETFROM:-0400
TZOFFSETTO:-0500
TZNAME:EST
DTSTART:20251102T060000
END:STANDARD
BEGIN:DAYLIGHT
TZOFFSETFROM:-0500
TZOFFSETTO:-0400
TZNAME:EDT
DTSTART:20260308T070000
END:DAYLIGHT
BEGIN:STANDARD
TZOFFSETFROM:-0400
TZOFFSETTO:-0500
TZNAME:EST
DTSTART:20261101T060000
END:STANDARD
END:VTIMEZONE
BEGIN:VEVENT
DTSTART;TZID=America/New_York:20250402T113000
DTEND;TZID=America/New_York:20250402T123000
DTSTAMP:20260419T152414
CREATED:20250310T145642Z
LAST-MODIFIED:20250310T145951Z
UID:10001576-1743593400-1743597000@salesvault.pro
SUMMARY:SpeedPro Owner Exclusive: The Future of Content Marketing
DESCRIPTION:Join fellow SpeedPro owners at this interactive workshop on the future of content marketing \nWhat are the emerging content formats (e.g.\, short-form video\, interactive content\, podcasts) that marketers should invest in? Join us to discuss strategies for content repurposing and maximizing the value of existing assets.
URL:https://salesvault.pro/event/speedpro-owner-exclusive-the-future-of-content-marketing/
CATEGORIES:SpeedPro Owner Exclusive
ATTACH;FMTTYPE=image/jpeg:https://salesvault.pro/wp-content/uploads/2025/03/SpeedPro-Workshop-April-2.jpg
ORGANIZER;CN="Bill Farquharson":MAILTO:bill@salesvault.pro
LOCATION:https://salesvault.pro/event/speedpro-owner-exclusive-the-future-of-content-marketing/
END:VEVENT
BEGIN:VEVENT
DTSTART;TZID=America/New_York:20250407T110000
DTEND;TZID=America/New_York:20250407T120000
DTSTAMP:20260419T152414
CREATED:20250327T203453Z
LAST-MODIFIED:20250327T204045Z
UID:10001577-1744023600-1744027200@salesvault.pro
SUMMARY:From Order Taker to Opportunity Maker
DESCRIPTION:How to Spot\, Create\, and Close Bigger Deals\nToo often\, sales reps wait for customers to ask for something instead of proactively uncovering opportunities. This session explores how to shift from reactive to strategic selling—asking better questions\, spotting upsell/cross-sell moments\, and becoming an indispensable partner rather than just a vendor.
URL:https://salesvault.pro/event/from-order-taker-to-opportunity-maker-how-to-spot-create-and-close-bigger-deals/
CATEGORIES:Live Workshop,Weekly Workshop
ATTACH;FMTTYPE=image/jpeg:https://salesvault.pro/wp-content/uploads/2025/03/Order-Taker-to-Oppty-Maker-April-7-2025.jpg
ORGANIZER;CN="Bill Farquharson":MAILTO:bill@salesvault.pro
LOCATION:https://salesvault.pro/event/from-order-taker-to-opportunity-maker-how-to-spot-create-and-close-bigger-deals/
END:VEVENT
BEGIN:VEVENT
DTSTART;TZID=America/New_York:20250414T110000
DTEND;TZID=America/New_York:20250414T120000
DTSTAMP:20260419T152414
CREATED:20250327T203856Z
LAST-MODIFIED:20250327T204312Z
UID:10001578-1744628400-1744632000@salesvault.pro
SUMMARY:Marketing that Actually Works: Simple Ideas for Busy Shops
DESCRIPTION:Real-World Campaigns That Drive Engagement and Sales\nMost shops struggle to consistently market themselves. This discussion focuses on low-effort\, high-impact marketing strategies tailored for the print and promo world—like using your own products as marketing tools\, email campaigns that don’t suck\, and leveraging seasonal opportunities.
URL:https://salesvault.pro/event/marketing-that-actually-works-simple-ideas-for-busy-shops/
CATEGORIES:Live Workshop,Weekly Workshop
ATTACH;FMTTYPE=image/jpeg:https://salesvault.pro/wp-content/uploads/2025/03/Simple-Ideas-for-Busy-Shops-April-14-2025.jpg
ORGANIZER;CN="Bill Farquharson":MAILTO:bill@salesvault.pro
LOCATION:https://salesvault.pro/event/marketing-that-actually-works-simple-ideas-for-busy-shops/
END:VEVENT
BEGIN:VEVENT
DTSTART;TZID=America/New_York:20250416T120000
DTEND;TZID=America/New_York:20250416T130000
DTSTAMP:20260419T152414
CREATED:20250329T154419Z
LAST-MODIFIED:20250329T193040Z
UID:10001582-1744804800-1744808400@salesvault.pro
SUMMARY:Sales by Design: Creating a Process That Wins New Business and Grows Existing Accounts
DESCRIPTION:Too many salespeople rely on instinct and effort instead of structure and strategy. In this hands-on workshop\, we’ll break down the critical elements of an effective sales process—from first contact to final follow-up. You’ll learn why one process doesn’t fit all\, how to build separate approaches for new and existing clients\, and how to use multiple communication mediums to increase engagement. We’ll explore generational preferences\, multi-step outreach plans\, and how consistency outperforms intensity. Whether you’re selling print\, signage\, labels\, or promotional products\, this session will help you create a repeatable\, scalable sales process that builds confidence\, drives results\, and turns prospects into loyal customers. Walk away with a customizable framework you can start using immediately.
URL:https://salesvault.pro/event/sales-by-design-creating-a-process-that-wins-new-business-and-grows-existing-accounts/
CATEGORIES:April 2025 Series,Featured Workshop,Live Workshop,Sales Process
ATTACH;FMTTYPE=image/jpeg:https://salesvault.pro/wp-content/uploads/2025/03/Sales-By-Design-April-16-12pm-Sales-Vault.jpg
ORGANIZER;CN="Bill Farquharson":MAILTO:bill@salesvault.pro
LOCATION:https://salesvault.pro/event/sales-by-design-creating-a-process-that-wins-new-business-and-grows-existing-accounts/
END:VEVENT
BEGIN:VEVENT
DTSTART;TZID=America/New_York:20250421T110000
DTEND;TZID=America/New_York:20250421T120000
DTSTAMP:20260419T152414
CREATED:20250327T204249Z
LAST-MODIFIED:20250327T204249Z
UID:10001579-1745233200-1745236800@salesvault.pro
SUMMARY:The Loyalty Ladder: Turning One-Time Buyers into Lifelong Clients
DESCRIPTION:Building Customer Retention into Your Sales Strategy\nIt costs 5x more to get a new customer than to keep an existing one—but too many salespeople treat repeat business as luck rather than a strategy. This session dives into systems and tactics to drive reorders\, increase lifetime value\, and turn clients into your best referral source.
URL:https://salesvault.pro/event/the-loyalty-ladder-turning-one-time-buyers-into-lifelong-clients/
CATEGORIES:Live Workshop,Weekly Workshop
ATTACH;FMTTYPE=image/jpeg:https://salesvault.pro/wp-content/uploads/2025/03/The-loyalty-ladder-April-21-2025.jpg
ORGANIZER;CN="Bill Farquharson":MAILTO:bill@salesvault.pro
LOCATION:https://salesvault.pro/event/the-loyalty-ladder-turning-one-time-buyers-into-lifelong-clients/
END:VEVENT
BEGIN:VEVENT
DTSTART;TZID=America/New_York:20250428T110000
DTEND;TZID=America/New_York:20250428T120000
DTSTAMP:20260419T152414
CREATED:20250327T204521Z
LAST-MODIFIED:20250327T205507Z
UID:10001580-1745838000-1745841600@salesvault.pro
SUMMARY:I Didn’t Know You Did That!
DESCRIPTION:Why Your Clients Are Buying from Someone Else—And How to Fix It\nYour customers are buying things you sell…from other vendors. Why? Because they don’t know your full offering. In this conversation\, we’ll cover how to educate your clients\, keep your name in front of them\, and use storytelling and samples to grow share of wallet.
URL:https://salesvault.pro/event/i-didnt-know-you-did-that/
CATEGORIES:Live Workshop,Weekly Workshop
ATTACH;FMTTYPE=image/jpeg:https://salesvault.pro/wp-content/uploads/2025/03/I-didnt-know-you-did-that-April-28-2025.jpg
ORGANIZER;CN="Bill Farquharson":MAILTO:bill@salesvault.pro
LOCATION:https://salesvault.pro/event/i-didnt-know-you-did-that/
END:VEVENT
BEGIN:VEVENT
DTSTART;TZID=America/New_York:20250429T120000
DTEND;TZID=America/New_York:20250429T130000
DTSTAMP:20260419T152414
CREATED:20250329T155534Z
LAST-MODIFIED:20250330T144834Z
UID:10001581-1745928000-1745931600@salesvault.pro
SUMMARY:Smarter Sales: Using AI to Power a More Efficient\, Effective Sales Process
DESCRIPTION:Scroll Down to Register ↓\nAbout this Workshop\nYou’ve built a solid sales process—now it’s time to supercharge it with AI. In this advanced\, follow-up workshop\, we’ll show you how artificial intelligence can streamline prospecting\, personalize outreach\, and automate the repetitive tasks that slow you down. Learn how to use AI tools to research leads faster\, craft targeted messaging across multiple channels\, and track engagement more effectively. We’ll also explore how AI helps you adapt your process for different client types and communication preferences. Whether you’re selling print\, signage\, promotional products\, or labels\, you’ll walk away with practical ways to integrate AI into your sales workflow—saving time\, boosting productivity\, and increasing close rates. Welcome to the smarter way to sell. \nThis workshop is presented by Bill Farquharson of The Sales Vault and special guest Emma Farquharson of SharedIntel AI.\n \nCost for Participating\nSales Vault members: Attend for FREE \nNon-members: $99\n(includes a copy of the recording) \nJoin the Sales Vault and Save!\nYes\, you can join The Sales Vault for $69 and participate in this and all monthly AI workshops for FREE. Cancel at any time. \nClick Here to explore membership options and check for partner discounts.
URL:https://salesvault.pro/event/smarter-sales-using-ai-to-power-a-more-efficient-effective-sales-process/
CATEGORIES:AI,April 2025 Series,Featured Workshop,Live Workshop,Sales Process
ATTACH;FMTTYPE=image/jpeg:https://salesvault.pro/wp-content/uploads/2025/03/AI-Workshop-April-2025.jpg
ORGANIZER;CN="Bill Farquharson":MAILTO:bill@salesvault.pro
LOCATION:https://salesvault.pro/event/smarter-sales-using-ai-to-power-a-more-efficient-effective-sales-process/
END:VEVENT
END:VCALENDAR