BEGIN:VCALENDAR
VERSION:2.0
PRODID:-//The Sales Vault - ECPv6.15.20//NONSGML v1.0//EN
CALSCALE:GREGORIAN
METHOD:PUBLISH
X-ORIGINAL-URL:https://salesvault.pro
X-WR-CALDESC:Events for The Sales Vault
REFRESH-INTERVAL;VALUE=DURATION:PT1H
X-Robots-Tag:noindex
X-PUBLISHED-TTL:PT1H
BEGIN:VTIMEZONE
TZID:America/New_York
BEGIN:DAYLIGHT
TZOFFSETFROM:-0500
TZOFFSETTO:-0400
TZNAME:EDT
DTSTART:20240310T070000
END:DAYLIGHT
BEGIN:STANDARD
TZOFFSETFROM:-0400
TZOFFSETTO:-0500
TZNAME:EST
DTSTART:20241103T060000
END:STANDARD
BEGIN:DAYLIGHT
TZOFFSETFROM:-0500
TZOFFSETTO:-0400
TZNAME:EDT
DTSTART:20250309T070000
END:DAYLIGHT
BEGIN:STANDARD
TZOFFSETFROM:-0400
TZOFFSETTO:-0500
TZNAME:EST
DTSTART:20251102T060000
END:STANDARD
BEGIN:DAYLIGHT
TZOFFSETFROM:-0500
TZOFFSETTO:-0400
TZNAME:EDT
DTSTART:20260308T070000
END:DAYLIGHT
BEGIN:STANDARD
TZOFFSETFROM:-0400
TZOFFSETTO:-0500
TZNAME:EST
DTSTART:20261101T060000
END:STANDARD
END:VTIMEZONE
BEGIN:VEVENT
DTSTART;TZID=America/New_York:20250414T110000
DTEND;TZID=America/New_York:20250414T120000
DTSTAMP:20260419T133956
CREATED:20250327T203856Z
LAST-MODIFIED:20250327T204312Z
UID:10001578-1744628400-1744632000@salesvault.pro
SUMMARY:Marketing that Actually Works: Simple Ideas for Busy Shops
DESCRIPTION:Real-World Campaigns That Drive Engagement and Sales\nMost shops struggle to consistently market themselves. This discussion focuses on low-effort\, high-impact marketing strategies tailored for the print and promo world—like using your own products as marketing tools\, email campaigns that don’t suck\, and leveraging seasonal opportunities.
URL:https://salesvault.pro/event/marketing-that-actually-works-simple-ideas-for-busy-shops/
CATEGORIES:Live Workshop,Weekly Workshop
ATTACH;FMTTYPE=image/jpeg:https://salesvault.pro/wp-content/uploads/2025/03/Simple-Ideas-for-Busy-Shops-April-14-2025.jpg
ORGANIZER;CN="Bill Farquharson":MAILTO:bill@salesvault.pro
LOCATION:https://salesvault.pro/event/marketing-that-actually-works-simple-ideas-for-busy-shops/
END:VEVENT
END:VCALENDAR