BEGIN:VCALENDAR
VERSION:2.0
PRODID:-//The Sales Vault - ECPv6.15.20//NONSGML v1.0//EN
CALSCALE:GREGORIAN
METHOD:PUBLISH
X-WR-CALNAME:The Sales Vault
X-ORIGINAL-URL:https://salesvault.pro
X-WR-CALDESC:Events for The Sales Vault
REFRESH-INTERVAL;VALUE=DURATION:PT1H
X-Robots-Tag:noindex
X-PUBLISHED-TTL:PT1H
BEGIN:VTIMEZONE
TZID:America/New_York
BEGIN:DAYLIGHT
TZOFFSETFROM:-0500
TZOFFSETTO:-0400
TZNAME:EDT
DTSTART:20230312T070000
END:DAYLIGHT
BEGIN:STANDARD
TZOFFSETFROM:-0400
TZOFFSETTO:-0500
TZNAME:EST
DTSTART:20231105T060000
END:STANDARD
BEGIN:DAYLIGHT
TZOFFSETFROM:-0500
TZOFFSETTO:-0400
TZNAME:EDT
DTSTART:20240310T070000
END:DAYLIGHT
BEGIN:STANDARD
TZOFFSETFROM:-0400
TZOFFSETTO:-0500
TZNAME:EST
DTSTART:20241103T060000
END:STANDARD
BEGIN:DAYLIGHT
TZOFFSETFROM:-0500
TZOFFSETTO:-0400
TZNAME:EDT
DTSTART:20250309T070000
END:DAYLIGHT
BEGIN:STANDARD
TZOFFSETFROM:-0400
TZOFFSETTO:-0500
TZNAME:EST
DTSTART:20251102T060000
END:STANDARD
END:VTIMEZONE
BEGIN:VEVENT
DTSTART;TZID=America/New_York:20241111T110000
DTEND;TZID=America/New_York:20241111T120000
DTSTAMP:20260419T093952
CREATED:20240726T091036Z
LAST-MODIFIED:20240726T091036Z
UID:10001479-1731322800-1731326400@salesvault.pro
SUMMARY:The Marketing Workshop
DESCRIPTION:This is a general conversation about marketing (both company-wide and personal) open to all Sales Vault Insiders. \nPlease make sure you login a few minutes early. After the call starts\, we will be unable to help with any technical issues.
URL:https://salesvault.pro/event/the-marketing-workshop-november-11/
CATEGORIES:Live Workshop,Office Hours
ATTACH;FMTTYPE=image/jpeg:https://salesvault.pro/wp-content/uploads/2024/04/Marketing-Matters.jpg
ORGANIZER;CN="Bill Farquharson":MAILTO:bill@salesvault.pro
LOCATION:https://salesvault.pro/event/the-marketing-workshop-november-11/
END:VEVENT
BEGIN:VEVENT
DTSTART;TZID=America/New_York:20241112T113000
DTEND;TZID=America/New_York:20241112T123000
DTSTAMP:20260419T093952
CREATED:20241101T181250Z
LAST-MODIFIED:20241101T182930Z
UID:10001541-1731411000-1731414600@salesvault.pro
SUMMARY:Post-Purchase Prospecting
DESCRIPTION:It takes hard work to open a new account. Once they become a client\, it is common practice to move on to other opportunities. But\, hold on. There is still some work to do. After the sale is made\, you need to onboard that new client while looking for ways to get that second\, third\, and fourth order from them. This workshop begins with that moment you bring on a new customer. Where it ends is up to you.
URL:https://salesvault.pro/event/post-purchase-prospecting/
CATEGORIES:Live Workshop
ORGANIZER;CN="Bill Farquharson":MAILTO:bill@salesvault.pro
LOCATION:https://salesvault.pro/event/post-purchase-prospecting/
END:VEVENT
BEGIN:VEVENT
DTSTART;TZID=America/New_York:20241113T120000
DTEND;TZID=America/New_York:20241113T130000
DTSTAMP:20260419T093952
CREATED:20240726T100639Z
LAST-MODIFIED:20240726T193627Z
UID:10001494-1731499200-1731502800@salesvault.pro
SUMMARY:"New-to-Sales" Workshop
DESCRIPTION:Getting started in sales can be a lonely voyage. This Sales Vault exclusive has given new sales reps and selling owners a community to share success strategies and support. Bring a sales challenge for discussion or just be a fly-on-the-wall and listen\, but this workshop might just become your favorite Sales Vault session! \n\n\n\n\nThis small discussion group (5-7 participants) meets via Zoom every other week. \nEveryone brings one sales challenge and receives instantly-applicable ideas. Recent discussion points have been: \n\nOvercoming self-doubt\nWork/Life balance\nThe fear of selling\nBeating Imposter Syndrome\nHow to build a client base fast\nWhat to do with a bully client\n\n 
URL:https://salesvault.pro/event/new-to-sales-workshop-november-13/
CATEGORIES:Featured Workshop,Live Workshop,New to Sales
ATTACH;FMTTYPE=image/jpeg:https://salesvault.pro/wp-content/uploads/2024/07/New-to-Sales-Workshop.jpg
ORGANIZER;CN="Bill Farquharson":MAILTO:bill@salesvault.pro
LOCATION:https://salesvault.pro/event/new-to-sales-workshop-november-13/
END:VEVENT
END:VCALENDAR