BEGIN:VCALENDAR
VERSION:2.0
PRODID:-//The Sales Vault - ECPv6.15.20//NONSGML v1.0//EN
CALSCALE:GREGORIAN
METHOD:PUBLISH
X-ORIGINAL-URL:https://salesvault.pro
X-WR-CALDESC:Events for The Sales Vault
REFRESH-INTERVAL;VALUE=DURATION:PT1H
X-Robots-Tag:noindex
X-PUBLISHED-TTL:PT1H
BEGIN:VTIMEZONE
TZID:America/New_York
BEGIN:DAYLIGHT
TZOFFSETFROM:-0500
TZOFFSETTO:-0400
TZNAME:EDT
DTSTART:20240310T070000
END:DAYLIGHT
BEGIN:STANDARD
TZOFFSETFROM:-0400
TZOFFSETTO:-0500
TZNAME:EST
DTSTART:20241103T060000
END:STANDARD
BEGIN:DAYLIGHT
TZOFFSETFROM:-0500
TZOFFSETTO:-0400
TZNAME:EDT
DTSTART:20250309T070000
END:DAYLIGHT
BEGIN:STANDARD
TZOFFSETFROM:-0400
TZOFFSETTO:-0500
TZNAME:EST
DTSTART:20251102T060000
END:STANDARD
BEGIN:DAYLIGHT
TZOFFSETFROM:-0500
TZOFFSETTO:-0400
TZNAME:EDT
DTSTART:20260308T070000
END:DAYLIGHT
BEGIN:STANDARD
TZOFFSETFROM:-0400
TZOFFSETTO:-0500
TZNAME:EST
DTSTART:20261101T060000
END:STANDARD
END:VTIMEZONE
BEGIN:VEVENT
DTSTART;TZID=America/New_York:20250728T110000
DTEND;TZID=America/New_York:20250728T120000
DTSTAMP:20260420T033952
CREATED:20250619T122533Z
LAST-MODIFIED:20250619T122808Z
UID:10001608-1753700400-1753704000@salesvault.pro
SUMMARY:What Buyers Are Thinking (But Won’t Tell You)
DESCRIPTION:Sales isn’t just about what you say—it’s about what they don’t. In this deep dive into buyer psychology\, we’ll uncover the silent objections\, hidden priorities\, and unspoken fears that sabotage deals. You’ll learn how to spot these cues\, ask better questions\, and adjust your pitch on the fly to align with the decision-maker’s mindset.
URL:https://salesvault.pro/event/what-buyers-are-thinking-but-wont-tell-you/
CATEGORIES:Live Workshop,Weekly Workshop
ATTACH;FMTTYPE=image/jpeg:https://salesvault.pro/wp-content/uploads/2025/06/What-buyers-are-thinking.jpg
ORGANIZER;CN="Bill Farquharson":MAILTO:bill@salesvault.pro
LOCATION:https://salesvault.pro/event/what-buyers-are-thinking-but-wont-tell-you/
END:VEVENT
BEGIN:VEVENT
DTSTART;TZID=America/New_York:20250729T120000
DTEND;TZID=America/New_York:20250729T130000
DTSTAMP:20260420T033952
CREATED:20250619T125712Z
LAST-MODIFIED:20250707T113315Z
UID:10001610-1753790400-1753794000@salesvault.pro
SUMMARY:AI RX: Automating Access & Accelerating Sales in Hospitals
DESCRIPTION:Take your hospital sales strategy to the next level with this advanced session on AI-powered selling. In this workshop\, you’ll learn how to use ChatGPT\, Perplexity\, and others to simplify your pre-call research\, personalize outreach\, and streamline follow-ups. Whether you’re prospecting the purchasing department\, a department head\, or a hospital marketer\, we’ll show you how AI can uncover what matters most—and how to speak directly to those priorities.
URL:https://salesvault.pro/event/ai-rx-automating-access-accelerating-sales-in-hospitals/
CATEGORIES:AI,Featured Workshop,July 2025 Series,Live Workshop
ATTACH;FMTTYPE=image/jpeg:https://salesvault.pro/wp-content/uploads/2025/06/AI-RX-Selling-to-Hospitals-Featured-Image.jpg
ORGANIZER;CN="Bill Farquharson":MAILTO:bill@salesvault.pro
LOCATION:https://salesvault.pro/event/ai-rx-automating-access-accelerating-sales-in-hospitals/
END:VEVENT
END:VCALENDAR