BEGIN:VCALENDAR
VERSION:2.0
PRODID:-//The Sales Vault - ECPv6.15.20//NONSGML v1.0//EN
CALSCALE:GREGORIAN
METHOD:PUBLISH
X-WR-CALNAME:The Sales Vault
X-ORIGINAL-URL:https://salesvault.pro
X-WR-CALDESC:Events for The Sales Vault
REFRESH-INTERVAL;VALUE=DURATION:PT1H
X-Robots-Tag:noindex
X-PUBLISHED-TTL:PT1H
BEGIN:VTIMEZONE
TZID:America/New_York
BEGIN:DAYLIGHT
TZOFFSETFROM:-0500
TZOFFSETTO:-0400
TZNAME:EDT
DTSTART:20240310T070000
END:DAYLIGHT
BEGIN:STANDARD
TZOFFSETFROM:-0400
TZOFFSETTO:-0500
TZNAME:EST
DTSTART:20241103T060000
END:STANDARD
BEGIN:DAYLIGHT
TZOFFSETFROM:-0500
TZOFFSETTO:-0400
TZNAME:EDT
DTSTART:20250309T070000
END:DAYLIGHT
BEGIN:STANDARD
TZOFFSETFROM:-0400
TZOFFSETTO:-0500
TZNAME:EST
DTSTART:20251102T060000
END:STANDARD
BEGIN:DAYLIGHT
TZOFFSETFROM:-0500
TZOFFSETTO:-0400
TZNAME:EDT
DTSTART:20260308T070000
END:DAYLIGHT
BEGIN:STANDARD
TZOFFSETFROM:-0400
TZOFFSETTO:-0500
TZNAME:EST
DTSTART:20261101T060000
END:STANDARD
END:VTIMEZONE
BEGIN:VEVENT
DTSTART;TZID=America/New_York:20250505T110000
DTEND;TZID=America/New_York:20250505T120000
DTSTAMP:20260419T163159
CREATED:20250429T181050Z
LAST-MODIFIED:20250429T205322Z
UID:10001586-1746442800-1746446400@salesvault.pro
SUMMARY:The Power of the First 30 Days: Marketing to New Clients After the Sale
DESCRIPTION:Most reps stop marketing once the first order lands—but that’s when the real opportunity begins. We’ll discuss strategies for staying top of mind and building loyalty in the first month after a sale. What messages do you send? What do you include in your thank-you kit? What’s the first “wow” moment you deliver? Join us to swap ideas on how to turn first-time buyers into long-time customers.
URL:https://salesvault.pro/event/the-power-of-the-first-30-days-marketing-to-new-clients-after-the-sale/
CATEGORIES:Live Workshop,Weekly Workshop
ATTACH;FMTTYPE=image/jpeg:https://salesvault.pro/wp-content/uploads/2025/04/Marketing-Workshop-The-Power-of-the-First-30-Days-Marketing-to-New-Clients-After-the-Sale-May-5-2025.jpg
ORGANIZER;CN="Bill Farquharson":MAILTO:bill@salesvault.pro
LOCATION:https://salesvault.pro/event/the-power-of-the-first-30-days-marketing-to-new-clients-after-the-sale/
END:VEVENT
END:VCALENDAR