BEGIN:VCALENDAR
VERSION:2.0
PRODID:-//The Sales Vault - ECPv6.15.20//NONSGML v1.0//EN
CALSCALE:GREGORIAN
METHOD:PUBLISH
X-WR-CALNAME:The Sales Vault
X-ORIGINAL-URL:https://salesvault.pro
X-WR-CALDESC:Events for The Sales Vault
REFRESH-INTERVAL;VALUE=DURATION:PT1H
X-Robots-Tag:noindex
X-PUBLISHED-TTL:PT1H
BEGIN:VTIMEZONE
TZID:America/New_York
BEGIN:DAYLIGHT
TZOFFSETFROM:-0500
TZOFFSETTO:-0400
TZNAME:EDT
DTSTART:20240310T070000
END:DAYLIGHT
BEGIN:STANDARD
TZOFFSETFROM:-0400
TZOFFSETTO:-0500
TZNAME:EST
DTSTART:20241103T060000
END:STANDARD
BEGIN:DAYLIGHT
TZOFFSETFROM:-0500
TZOFFSETTO:-0400
TZNAME:EDT
DTSTART:20250309T070000
END:DAYLIGHT
BEGIN:STANDARD
TZOFFSETFROM:-0400
TZOFFSETTO:-0500
TZNAME:EST
DTSTART:20251102T060000
END:STANDARD
BEGIN:DAYLIGHT
TZOFFSETFROM:-0500
TZOFFSETTO:-0400
TZNAME:EDT
DTSTART:20260308T070000
END:DAYLIGHT
BEGIN:STANDARD
TZOFFSETFROM:-0400
TZOFFSETTO:-0500
TZNAME:EST
DTSTART:20261101T060000
END:STANDARD
END:VTIMEZONE
BEGIN:VEVENT
DTSTART;TZID=America/New_York:20250128T110000
DTEND;TZID=America/New_York:20250128T120000
DTSTAMP:20260420T203537
CREATED:20250119T151649Z
LAST-MODIFIED:20250209T205522Z
UID:78316-1738062000-1738065600@salesvault.pro
SUMMARY:AI & Time Management: The Ideal Sales Day
DESCRIPTION:Scroll Down to Register ↓				\n				\n				\n				\n							\n			\n		\n						\n				\n				\n				\n					About this Workshop				\n				\n				\n				\n									AI & Time Management: The Ideal Sales DayIn a perfect world\, you show up in the morning having already planned out the day. You’ve identified your priorities. You systematically move through your tasks\, calls\, and appointments. You don’t procrastinate. If you fall off track\, you quickly recover. Your day ends at a reasonable hour and you have made a plan for tomorrow. What if you could achieve this goal day after day? What would it mean for your sales? Your work/life balance? Your happiness and sense of achievement? In this 60-minute workshop you’ll learn how to engage specific AI tools in order to live that ideal sales day over and over. Better sales efficiency\, productivity\, and improved time management are possible. They are within your capabilities. You simply need to know how and where to apply AI shortcuts. 								\n				\n				\n				\n							\n			\n		\n						\n				\n				\n				\n					What You'll Learn				\n				\n				\n				\n									How to identify the best use of your time;How to understand where you are spending your time currently;How to see tomorrow today\, next week this week\, and create 6\, 9\, and 12 month sales goals;How to overcome procrastination and stay on track;How to use AI as an accountability tool;How to come up with short term sales activity goals.								\n				\n				\n				\n					The key to effective time management is preparation. Join us for this one-hour workshop and you will get yourself set up for success.				\n				\n				\n				\n									This workshop is presented by Bill Farquharson of The Sales Vault and special guest Emma Farquharson of SharedIntel AI. 								\n				\n				\n				\n					Cost for Participating				\n				\n				\n				\n									Sales Vault members: Attend for FREE Non-members: $99 (includes a copy of the recording) 								\n				\n				\n				\n					Join the Sales Vault and Save!				\n				\n				\n				\n							\n			\n		\n						\n				\n				\n				\n									Yes\, you CAN join The Sales Vault for $69 and participate in this and all monthly AI workshops for FREE. Cancel at any time. FREE BONUS: Sign up now and receive a copy of the January 22 Sales Vault workshop\, “Sell 50% More\, Work 50% Less.” Learn a 5 step plan to increase sales while reducing the length of your selling day. Click Here to explore membership options and check for partner discounts.
URL:https://salesvault.pro/event/ai-time-management-january-2025/
CATEGORIES:Featured Workshop,January 2025 Series,Live Workshop,Public Event
ATTACH;FMTTYPE=image/jpeg:https://salesvault.pro/wp-content/uploads/2025/01/AI-and-Time-Management-January-2025-no-logo.jpg
ORGANIZER;CN="Bill Farquharson":MAILTO:bill@salesvault.pro
LOCATION:https://salesvault.pro/event/ai-time-management-january-2025/
END:VEVENT
END:VCALENDAR